BEGIN:VCALENDAR
VERSION:2.0
PRODID:-//Saugeen Times - ECPv6.11.2//NONSGML v1.0//EN
CALSCALE:GREGORIAN
METHOD:PUBLISH
X-WR-CALNAME:Saugeen Times
X-ORIGINAL-URL:https://saugeentimes.com
X-WR-CALDESC:Events for Saugeen Times
REFRESH-INTERVAL;VALUE=DURATION:PT1H
X-Robots-Tag:noindex
X-PUBLISHED-TTL:PT1H
BEGIN:VTIMEZONE
TZID:America/Toronto
BEGIN:DAYLIGHT
TZOFFSETFROM:-0500
TZOFFSETTO:-0400
TZNAME:EDT
DTSTART:20260308T070000
END:DAYLIGHT
BEGIN:STANDARD
TZOFFSETFROM:-0400
TZOFFSETTO:-0500
TZNAME:EST
DTSTART:20261101T060000
END:STANDARD
END:VTIMEZONE
BEGIN:VEVENT
DTSTART;TZID=America/Toronto:20260425T100000
DTEND;TZID=America/Toronto:20260425T120000
DTSTAMP:20260420T080958
CREATED:20260227T162655Z
LAST-MODIFIED:20260227T180522Z
UID:88213-1777111200-1777118400@saugeentimes.com
SUMMARY:Are Your Ducks in a Row?
DESCRIPTION:April 25:  Huron Shores Hospice presents\nAre Your Ducks in a Row – end of life planning\n10:00 a.m. – 12:00 p.m.\nChantry Centre Southampton (35 Grey St.)\nClick on image then … RSVP HERE    \n  \n 
URL:https://saugeentimes.com/events/are-your-ducks-in-a-row/
ATTACH;FMTTYPE=image/png:https://saugeentimes.com/wp-content/uploads/2026/02/Hospice-Ducks.png
END:VEVENT
BEGIN:VEVENT
DTSTART;TZID=America/Toronto:20260425T100000
DTEND;TZID=America/Toronto:20260425T123000
DTSTAMP:20260420T080958
CREATED:20260317T153038Z
LAST-MODIFIED:20260317T153038Z
UID:88659-1777111200-1777120200@saugeentimes.com
SUMMARY:Rotary Shred 'n' Go returning
DESCRIPTION:April 25:  Southampton Rotary hosting\nShred ‘n’ Go – Community Shredding Event\n10:00 a.m. – 12:30 p.m.\nRotary Hall\, 39 Grey St.S.\, Southampton\nSee poster for details
URL:https://saugeentimes.com/events/rotary-shred-n-go-returning/
ATTACH;FMTTYPE=image/png:https://saugeentimes.com/wp-content/uploads/2026/03/Rotary-shred-event.png
END:VEVENT
BEGIN:VEVENT
DTSTART;TZID=America/Toronto:20260429T173000
DTEND;TZID=America/Toronto:20260429T190000
DTSTAMP:20260420T080958
CREATED:20260402T191833Z
LAST-MODIFIED:20260402T191833Z
UID:89002-1777483800-1777489200@saugeentimes.com
SUMMARY:NII hosts - Built to Lead Open House: Women in the Trades
DESCRIPTION:April 29:  NII hosts Built to Lead – Women in the Trades\nOpen House – Grey County Sydenham Campus\n(beside Georgian College Owen Sound)\n1130 8th St. E. – 5:30 p.m. – 7:30 p.m.\nRefreshments provided\nFree Event –  Don’t miss out—register today at:\nnii-built-to-lead-april29.eventbrite.com 
URL:https://saugeentimes.com/events/nii-hosts-built-to-lead-open-house-women-in-the-trades/
ATTACH;FMTTYPE=image/png:https://saugeentimes.com/wp-content/uploads/2026/04/NII-women-poster-copy.png
END:VEVENT
BEGIN:VEVENT
DTSTART;TZID=America/Toronto:20260503T150000
DTEND;TZID=America/Toronto:20260503T160000
DTSTAMP:20260420T080958
CREATED:20260413T175540Z
LAST-MODIFIED:20260413T175540Z
UID:89219-1777820400-1777824000@saugeentimes.com
SUMMARY:Chantry Singers in Concert
DESCRIPTION:May 3:  Chantry Singers presents in Concert\n‘Glorious and Free’\n3:00 p.m.\nFaith Lutheran Church Port Elgin
URL:https://saugeentimes.com/events/chantry-singers-in-concert/
ATTACH;FMTTYPE=image/jpeg:https://saugeentimes.com/wp-content/uploads/2019/04/Music-notes-e1605105210410.jpg
END:VEVENT
BEGIN:VEVENT
DTSTART;TZID=America/Toronto:20260509T100000
DTEND;TZID=America/Toronto:20260509T140000
DTSTAMP:20260420T080958
CREATED:20260410T163022Z
LAST-MODIFIED:20260410T163022Z
UID:89164-1778320800-1778335200@saugeentimes.com
SUMMARY:Hike for Hospice - a FUNdraiser for compassionate care
DESCRIPTION:May 9:  Grey Bruce Hospice Foundation \nHike for Hospice \nLamont Sports Park Saugeen Shores \n10:00 a.m. – Treasure Hunt\, live music\, BBQ \nClick on Image and Register HERE
URL:https://saugeentimes.com/events/hike-for-hospice-a-fundraiser-for-compassionate-care/
ATTACH;FMTTYPE=image/jpeg:https://saugeentimes.com/wp-content/uploads/2026/04/Hike-for-hospice.jpeg
END:VEVENT
BEGIN:VEVENT
DTSTART;TZID=America/Toronto:20260530T100000
DTEND;TZID=America/Toronto:20260530T140000
DTSTAMP:20260420T080958
CREATED:20260410T163701Z
LAST-MODIFIED:20260410T163701Z
UID:89166-1780135200-1780149600@saugeentimes.com
SUMMARY:Grey Bruce Hospice - Hopping for Hospice
DESCRIPTION:May 30: Grey Bruce Hospice Foundation \nHike for Hospice \nHarrison Park Owen Sound \nLive music\, BBQ\, Family Fun \n10:00 a.m. – Hopping for Hospice with Brennan Sutter Dancers \nCiick on image\, then HERE to Register
URL:https://saugeentimes.com/events/grey-bruce-hospice-hopping-for-hospice/
ATTACH;FMTTYPE=image/jpeg:https://saugeentimes.com/wp-content/uploads/2026/04/Hike-for-hospice.jpeg
END:VEVENT
END:VCALENDAR